BEGIN:VCALENDAR
VERSION:2.0
PRODID:-//Veterans Grappling - ECPv6.15.20//NONSGML v1.0//EN
CALSCALE:GREGORIAN
METHOD:PUBLISH
X-ORIGINAL-URL:https://veteransgrappling.org.au
X-WR-CALDESC:Events for Veterans Grappling
REFRESH-INTERVAL;VALUE=DURATION:PT1H
X-Robots-Tag:noindex
X-PUBLISHED-TTL:PT1H
BEGIN:VTIMEZONE
TZID:UTC
BEGIN:STANDARD
TZOFFSETFROM:+0000
TZOFFSETTO:+0000
TZNAME:UTC
DTSTART:20200101T000000
END:STANDARD
END:VTIMEZONE
BEGIN:VTIMEZONE
TZID:Australia/Melbourne
BEGIN:STANDARD
TZOFFSETFROM:+1100
TZOFFSETTO:+1000
TZNAME:AEST
DTSTART:20200404T160000
END:STANDARD
BEGIN:DAYLIGHT
TZOFFSETFROM:+1000
TZOFFSETTO:+1100
TZNAME:AEDT
DTSTART:20201003T160000
END:DAYLIGHT
BEGIN:STANDARD
TZOFFSETFROM:+1100
TZOFFSETTO:+1000
TZNAME:AEST
DTSTART:20210403T160000
END:STANDARD
BEGIN:DAYLIGHT
TZOFFSETFROM:+1000
TZOFFSETTO:+1100
TZNAME:AEDT
DTSTART:20211002T160000
END:DAYLIGHT
BEGIN:STANDARD
TZOFFSETFROM:+1100
TZOFFSETTO:+1000
TZNAME:AEST
DTSTART:20220402T160000
END:STANDARD
BEGIN:DAYLIGHT
TZOFFSETFROM:+1000
TZOFFSETTO:+1100
TZNAME:AEDT
DTSTART:20221001T160000
END:DAYLIGHT
BEGIN:STANDARD
TZOFFSETFROM:+1100
TZOFFSETTO:+1000
TZNAME:AEST
DTSTART:20230401T160000
END:STANDARD
BEGIN:DAYLIGHT
TZOFFSETFROM:+1000
TZOFFSETTO:+1100
TZNAME:AEDT
DTSTART:20230930T160000
END:DAYLIGHT
BEGIN:STANDARD
TZOFFSETFROM:+1100
TZOFFSETTO:+1000
TZNAME:AEST
DTSTART:20240406T160000
END:STANDARD
BEGIN:DAYLIGHT
TZOFFSETFROM:+1000
TZOFFSETTO:+1100
TZNAME:AEDT
DTSTART:20241005T160000
END:DAYLIGHT
BEGIN:STANDARD
TZOFFSETFROM:+1100
TZOFFSETTO:+1000
TZNAME:AEST
DTSTART:20250405T160000
END:STANDARD
BEGIN:DAYLIGHT
TZOFFSETFROM:+1000
TZOFFSETTO:+1100
TZNAME:AEDT
DTSTART:20251004T160000
END:DAYLIGHT
END:VTIMEZONE
BEGIN:VTIMEZONE
TZID:Australia/Brisbane
BEGIN:STANDARD
TZOFFSETFROM:+1000
TZOFFSETTO:+1000
TZNAME:AEST
DTSTART:20220101T000000
END:STANDARD
END:VTIMEZONE
BEGIN:VTIMEZONE
TZID:UTC
BEGIN:STANDARD
TZOFFSETFROM:+0000
TZOFFSETTO:+0000
TZNAME:UTC
DTSTART:20200101T000000
END:STANDARD
END:VTIMEZONE
BEGIN:VEVENT
DTSTART;TZID=UTC:20251129T090000
DTEND;TZID=UTC:20251129T120000
DTSTAMP:20260424T004901
CREATED:20251118T033103Z
LAST-MODIFIED:20251118T033103Z
UID:4862-1764406800-1764417600@veteransgrappling.org.au
SUMMARY:HUNTER VALLEY CHARITY OPEN MAT
DESCRIPTION:Hunter Valley Charity Open Mat – Save the Date!\n🗓 Saturday\, 29 November⏰ 9:00 AM Start📍 Hunter Valley Jiu Jitsu & Hunter Valley MMA \nBlock out your calendar and get ready for an incredible morning on the mats! \nHunter Valley Jiu Jitsu and @huntervalleymma are proud to host a charity open mat in support of the Veterans Grappling Foundation (VGF) — a DGR-status charity founded by veteran Scott Steer\, dedicated to improving the mental health and wellbeing of veterans and first responders through grappling-based and wellness programs. \nWhat to Expect\n🥋 Technique WorkshopScott and Louis will kick off the morning by delivering a sharp\, detailed technical session focused on takedowns and self-defence — giving all attendees real value before rolling begins. \n🤝 Open MatAfter the workshop\, we’ll flow into a relaxed open mat to roll\, connect\, and build community through Jiu-Jitsu. \nWhy This Matters\nBy attending\, you’re directly supporting the Veterans Grappling Foundation’s mission to provide life-changing programs\, scholarships\, and camps for veterans and first responders across Australia. \nSpecial Thanks\nA huge thank you to our generous sponsors for backing this important initiative and helping us make a positive impact. 👊🤝🤙
URL:https://veteransgrappling.org.au/event/hunter-valley-charity-open-mat/
LOCATION:Hunter Valley Jiu Jitsu & Hunter Valley MMA\, 109 Northcote St\, Kurri Kurri\, New South Wales\, 2327\, Australia
ATTACH;FMTTYPE=image/jpeg:https://veteransgrappling.org.au/wp-content/uploads/2025/11/1000043707.jpg
END:VEVENT
BEGIN:VEVENT
DTSTART;TZID=Australia/Melbourne:20241206T120000
DTEND;TZID=Australia/Melbourne:20241209T100000
DTSTAMP:20260424T004901
CREATED:20240802T114346Z
LAST-MODIFIED:20240922T111543Z
UID:4753-1733486400-1733738400@veteransgrappling.org.au
SUMMARY:VGF Summer Wellness Camp 2024
DESCRIPTION:**VGF Summer Wellness Camp 2024**\n\n\n\n\nJoin us from December 6th to 9th\, 2024\, for the VGF Summer Wellness Camp at the beautiful Gold Coast Recreation Precinct\, nestled along the serene Tallebudgera Creek. This camp is an extraordinary opportunity to immerse yourself in a weekend dedicated to well-being\, camaraderie\, and skill development. Our camp offers dorm-style accommodation and mess facilities\, ensuring a comfortable and inclusive environment where participants can connect and bond with fellow veterans and supporters. \nThe VGF Summer Wellness Camp 2024 is more than just a training event; it’s a holistic experience designed to nurture both body and mind. Our program includes Brazilian Jiu-Jitsu (BJJ) and Judo sessions\, catering to all skill levels\, whether you’re a seasoned practitioner or new to the mats. In addition to martial arts\, we will focus on wellness activities that promote physical and mental health\, including mindfulness practices\, yoga\, and workshops on resilience and stress management. \nTeam-building activities are at the heart of our camp\, fostering a spirit of unity and support. Whether you’re participating in structured exercises or simply enjoying the natural beauty of Tallebudgera Creek\, the connections you make here will last a lifetime. Don’t miss this unique chance to recharge\, refine your skills\, and reconnect with the Veteran Grappling community. Secure your spot at the VGF Summer Wellness Camp 2024 and take a step towards a healthier\, more balanced life. \n\nCamp Applications are now CLOSED !!!\n\nKeep a look out for future camps on our social media pages.
URL:https://veteransgrappling.org.au/event/vgf-summer-wellness-camp-2024/
LOCATION:Gold Coast Recreation Precinct\, 1525 Gold Coast Hwy\,\, North Palm Beach Qld 4221\, Queensland\, 4221\, Australia
CATEGORIES:Camp
ATTACH;FMTTYPE=image/jpeg:https://veteransgrappling.org.au/wp-content/uploads/2024/08/gold-coast-aerial.jpg
END:VEVENT
BEGIN:VEVENT
DTSTART;TZID=Australia/Melbourne:20231109T080000
DTEND;TZID=Australia/Melbourne:20231112T170000
DTSTAMP:20260424T004901
CREATED:20230731T145600Z
LAST-MODIFIED:20240827T135313Z
UID:4519-1699516800-1699808400@veteransgrappling.org.au
SUMMARY:2023 Remembrance Day Wellness camp
DESCRIPTION:Our one and only FREE wellness camp for the year will be run over the Remembrance Day weekend (November 9th-12th) and is on offer to current and former serving ADF Community\, their allies\,US\,UK\,RSA\,CAN)\, and our own first responders (Police\, firefights\, and Paramedics). \nOur mission with these camps is to provide an educational 4-day seminar with our Multi-Disciplined Team (MDT) both on and off the mats at our world-class facility on the Gold Coast. The Veterans Grappling Foundation Team will consist of Black Belt instructors of Brazilian Jiu-Jitsu (BJJ) and Judo\, Physiotherapists\, Exercise Physiologists\, Clinical psychologists along with subject matter experts in body language\, meditation\, resilience\, recovery methods\, and goal setting. \nThis four-day intensive camp will provide the attendee with a wealth of knowledge in “staying on the path” to life after service. You will have access to the MDT throughout that whole period of the wellness camp\, to give you the best exposure to the content you require. \nIf you are interested in attending or would like to present at this camp\, please contact us at info@veteransgrappling.org.au and/or fill out the simple form below: \nVGF Remembrance Camp Application 2023Please enable JavaScript in your browser to complete this form.Name *FirstLastEmail *Phone Number *ADF or first responder service type *ArmyNavyAir ForcePoliceParamedicFirefighterDVA CARD *WhiteGoldNoneDVA card number *Grappling Experience *NoneBeginner (BJJ White with stripes\, Judo Yellow to Green)Advanced: 4 plus years (BJJ/Judo Blue to Purple)Experienced Brown or BlackGrade or rank if you have experienceDo you own a BJJ/Judo Gi *YesNoI only do no GiShirt SizeExtra SmallSmallMediumLargeExtra LargeXX LargeXXX LargeHave you attended one of our camps beforeYesNoIf so\, what would you like to change to previous camps.Submit
URL:https://veteransgrappling.org.au/event/2023-remembrance-day-wellness-camp/
LOCATION:Veterans Grappling\, Unit 3/19 Industrial Ave\, Molendinar\, QLD\, 4214\, Australia
CATEGORIES:Camp
ORGANIZER;CN="Admin team":MAILTO:info@veteransgrappling.org.au
END:VEVENT
BEGIN:VEVENT
DTSTART;TZID=Australia/Brisbane:20231013T170000
DTEND;TZID=Australia/Brisbane:20231014T170000
DTSTAMP:20260424T004901
CREATED:20230913T200352Z
LAST-MODIFIED:20230913T200352Z
UID:4554-1697216400-1697302800@veteransgrappling.org.au
SUMMARY:24 hour Roll-a-thon 2023
DESCRIPTION:The Veterans Grappling Foundation 24-Hour Roll-A-Thon Fundraiser: Uniting for a Cause \nThe Veterans Grappling Foundation’s 24-Hour Roll-A-Thon Fundraiser is an inspiring and dedicated event that brings together the martial arts and grappling community for an extraordinary cause. This remarkable fundraiser is a testament to the power of sports\, camaraderie\, and unwavering support for our nation’s veterans. \nEvent Overview: \nDate and Duration: The Veterans Grappling Foundation 24-Hour Roll-A-Thon takes place over the course of an entire day\, with participants engaging in continuous grappling and martial arts activities. \nPurpose: The primary objective of this event is to raise funds and awareness for veterans who have served their country with valor and are now facing various challenges in their civilian lives. Whether it’s physical rehabilitation\, mental health support\, or assistance with transitioning to civilian life\, the Veterans Grappling Foundation is committed to providing critical resources to these heroes. \nKey Highlights: \n\nCommunity Unity: The Roll-A-Thon serves as a rallying point for the martial arts and grappling community\, drawing practitioners of all skill levels\, backgrounds\, and affiliations. It fosters a spirit of unity\, inclusivity\, and goodwill among participants\, showcasing the ability of sports to bring people together for a common cause.\nNon-stop Action: Participants engage in continuous rolling and grappling sessions throughout the 24-hour duration. The event often features an array of martial arts styles\, including Brazilian Jiu-Jitsu\, Judo\, wrestling\, and more\, creating an exciting and dynamic atmosphere.\nVeteran Stories: Throughout the event\, veterans share their personal stories and experiences\, shedding light on the challenges they face and the importance of the Foundation’s mission. These poignant narratives inspire participants and attendees to contribute generously to the cause.\nFundraising: Donations are collected from participants\, spectators\, and supporters\, with all proceeds going directly to the Veterans Grappling Foundation. These funds enable the organization to provide vital support services to veterans in need.\nInclusivity: The event is open to individuals of all ages and skill levels\, from beginners to seasoned athletes. It encourages a sense of community and belonging\, as participants come together to roll and grapple for a common purpose.\nLive Demonstrations: In addition to the continuous rolling\, the Roll-A-Thon often features live demonstrations from martial arts experts and veterans\, showcasing the discipline\, techniques\, and skills that are at the heart of these practices.\nAwards and Recognition: Participants and contributors are acknowledged and celebrated for their dedication and generosity\, creating a sense of accomplishment and gratitude among all involved.\n\nThe Veterans Grappling Foundation 24-Hour Roll-A-Thon Fundraiser is not just an athletic event; it’s a profound demonstration of support for those who have selflessly served our nation. By combining the physical and mental challenges of martial arts with a commitment to giving back to the veteran community\, this event exemplifies the power of compassion\, resilience\, and unity. It’s a celebration of both the martial arts spirit and the unwavering commitment to supporting our veterans’ well-being. \n  \nPlease enable JavaScript in your browser to complete this form.Name *FirstLastPhone Number *Email *Friday 13th October till Saturday 14th October (QLD time) *1700-22592300- 04590500-10591100-1659Which 6 hour block would you like to attend. \n*You do not have to be able to attend the whole time. minimum of 30 mins on the matsWould you be interested in attending a special guest seminar during the roll-a-thon? *Start of roll-a-thon Friday 13th 5pm-7pmSaturday 9am-11amSaturday  12-2pmFinish of roll-a-thon 3-5pmAll the abovenone of the above. I just want to roll !!*Which hours best suit you? special guest instructors will be announced soon depending on general interest in the times on offer.Comments or questions for the teamSubmit
URL:https://veteransgrappling.org.au/event/24-hour-roll-a-thon-2023/
LOCATION:Veterans Grappling\, Unit 3/19 Industrial Ave\, Molendinar\, QLD\, 4214\, Australia
ATTACH;FMTTYPE=image/jpeg:https://veteransgrappling.org.au/wp-content/uploads/2023/09/rollathon.jpg
END:VEVENT
BEGIN:VEVENT
DTSTART;TZID=UTC:20221110T170000
DTEND;TZID=UTC:20221113T170000
DTSTAMP:20260424T004901
CREATED:20220825T014023Z
LAST-MODIFIED:20220825T014023Z
UID:4259-1668099600-1668358800@veteransgrappling.org.au
SUMMARY:VGF Remembrance Camp 22
DESCRIPTION:  \nThe second FREE camp of this year will be run over the Remembrance day weekend (November 10th-13th) and is on offer to current and former serving ADF  Community\, their allies ( NZ\,US\,UK\,RSA\,CAN)\, and our own first responders (Police\, firefights\, and Paramedics). \nOur mission with these camps is to provide an educational 3-day seminar with our Multi-Disciplined Team (MDT) both on and off the mats at our world-class facility on the Gold Coast. The Veterans Grappling Foundation Team will consist of Black Belt instructors of Brazilian Jiu-Jitsu (BJJ) and Judo\, Physiotherapists\, Exercise Physiologists\, Clinical psychologists along with subject matter experts in body language\, meditation\, resilience\, recovery methods\, and goal setting. \nThis three-day intensive camp will provide the attendee with a wealth of knowledge in “staying on the path” to life after service. You will have access to the MDT throughout that whole period of the wellness camp\, to give you the best exposure to the content you require. \nIf you are interested in attending or would like to present at this camp\, please contact us at info@veteransgrappling.org.au and/or fill out the simple form below: \nVGF Remembrance Camp Application 2022 Please enable JavaScript in your browser to complete this form.Name *FirstLastEmail *Phone Number *ADF or first responder service type *ArmyNavyAir ForcePoliceParamedicFirefighterDVA CARD *WhiteGoldNoneDVA card number *Grappling Experience *NoneBeginner (BJJ White with stripes\, Judo Yellow to Green)Advanced: 4 plus years (BJJ/Judo Blue to Purple)Experienced Brown or BlackGrade or rank if you have experienceDo you own a BJJ/Judo Gi *YesNoI only do no GiShirt SizeExtra SmallSmallMediumLargeExtra LargeXX LargeXXX LargeSubmit
URL:https://veteransgrappling.org.au/event/vgf-remembrance-camp-22/
LOCATION:Veterans Grappling\, Unit 3/19 Industrial Ave\, Molendinar\, QLD\, 4214\, Australia
CATEGORIES:Camp
ATTACH;FMTTYPE=image/png:https://veteransgrappling.org.au/wp-content/uploads/2022/08/Lest-we-forget-remembrance-day-Facebook-post-2.png
END:VEVENT
BEGIN:VEVENT
DTSTART;TZID=Australia/Melbourne:20220729T170000
DTEND;TZID=Australia/Melbourne:20220731T170000
DTSTAMP:20260424T004901
CREATED:20220321T165725Z
LAST-MODIFIED:20220321T165941Z
UID:4070-1659114000-1659286800@veteransgrappling.org.au
SUMMARY:Gold Coast Wellness camp July 2022
DESCRIPTION:Gold Coast Grappling and Wellness Camp Application 2022Please enable JavaScript in your browser to complete this form.Name *FirstLastEmail *Phone Number *ADF or first responder service type *ArmyNavyAir ForcePoliceParamedicFirefighterDVA CARD *WhiteGoldNoneDVA card number *Grappling Experience *Some (1-4years)Advanced: 4 plus yearslittle or None at allGrade or rank if you have experienceDo you own a BJJ/Judo Gi *YesNoI only do no GiSubmit  We would like to announce our Grappling and Wellness Camps that we will be running around the country. These camps are currently aimed at the ADF Veteran Community who have been awarded a white or Gold Card through the Department of Veteran Affairs (DVA). \nOur mission with these camps is to provide an educational 2-day seminar with our Multi-Disciplined Team (MDT) both on and off the mats in central locations around Australia. The Veterans Grappling Foundation Team will consist of Black Belt instructors or Brazilian Jiu-Jitsu (BJJ) and Judo\, Physiotherapists\, Exercise Physiologists\, Clinical Psychologist along with subject matter experts in body language\, meditation and recovery methods\, goal setting\, and combative behaviors. \nThese two-day intensive camps will provide the attendee with a wealth of knowledge in “staying on the path” to life after the ADF. You will have access to the MDT throughout that whole period of the wellness camp\, to give you the best exposure to the content you require. \nIf you are interested in attending or help run one of our camps in your area of operations (AO) please contact us at scott@veteransgrappling.org.au
URL:https://veteransgrappling.org.au/event/4070/
LOCATION:Veterans Grappling\, Unit 3/19 Industrial Ave\, Molendinar\, QLD\, 4214\, Australia
CATEGORIES:Camp
ATTACH;FMTTYPE=image/png:https://veteransgrappling.org.au/wp-content/uploads/2022/03/0001.png
ORGANIZER;CN="Scott":MAILTO:scott@veteransgrappling.org.au
END:VEVENT
BEGIN:VEVENT
DTSTART;TZID=Australia/Melbourne:20220618T090000
DTEND;TZID=Australia/Melbourne:20220618T153000
DTSTAMP:20260424T004901
CREATED:20220530T160817Z
LAST-MODIFIED:20220530T160817Z
UID:4224-1655542800-1655566200@veteransgrappling.org.au
SUMMARY:VGF Brisbane Grading
DESCRIPTION:Grading Seminar Training Schedule\nElmatador\n1 Prince Street\, Grange\n18 June 2022\n0900 to 1100h Elmatador/veterans grappling grading.\n1115 to 1200h\nIntroduction to Takedown 1\n1200 to 1300h Lunch\n1300 to 1500 Veterans Grappling Seminar- Introduction to Takedowns 2\nCombatives Close Distance- Self defence\nCoaches – Black Belts- Judo/BJJ/Wrestling\nGeordie Lavers-McBain\nAaron Johnston\nScott Steer
URL:https://veteransgrappling.org.au/event/vgf-brisbane-grading/
LOCATION:El Matador\, 1 Prince street\, Grange\, QLD\, 4051\, Australia
END:VEVENT
BEGIN:VEVENT
DTSTART;TZID=Australia/Melbourne:20220613T173000
DTEND;TZID=Australia/Melbourne:20220613T193000
DTSTAMP:20260424T004901
CREATED:20220530T160256Z
LAST-MODIFIED:20220530T160256Z
UID:4221-1655141400-1655148600@veteransgrappling.org.au
SUMMARY:Matt D'Aquino Seminar
DESCRIPTION:Matt D’Aquino is a Judo Olympian and author from Canberra\, Australia. He has represented Australia at eight Continental Championships\, four World Championships and competed in the 2008 Beijing Olympic Games. He is also a BJJ Black Belt under Felipe Grez.\nMatt is passionate about teaching and has helped thousands of grapplers worldwide through his online resources\, eBooks and online content which can be found at beyondgrappling.com and the universityofjudo.com
URL:https://veteransgrappling.org.au/event/matt-daquino-seminar/
LOCATION:Veterans Grappling\, Unit 3/19 Industrial Ave\, Molendinar\, QLD\, 4214\, Australia
ORGANIZER;CN="Scott":MAILTO:scott@veteransgrappling.org.au
END:VEVENT
BEGIN:VEVENT
DTSTART;TZID=UTC:20211209T170000
DTEND;TZID=UTC:20211210T170000
DTSTAMP:20260424T004901
CREATED:20211028T152139Z
LAST-MODIFIED:20211028T152327Z
UID:4024-1639069200-1639155600@veteransgrappling.org.au
SUMMARY:24 hour Rollathon
DESCRIPTION:On Dec 9th-10th we’re going to be attempting a World Record by getting as many people as we possibly can from all over the world to join us in a 24hr roll-a-thon to raise money\, increase awareness and grow the REORG\, We Defy\, and Veterans Grappling family. \nStarting at 1700hours (5 pm Queensland Time on Thursday the 9th) we will begin the roll-a-ton at our HQ on the Gold Coast through till 5 pm Queensland time the following day (Friday 10th December) \nIf you would like to participate from your own gym/ academy anywhere in Australia\, New Zealand\, or the world\, please contact us and fill out the registration form. It can be anyform of grappling\, BJJ\, Judo\, Sambo\, Wrestling etc. \nYou can also donate financially to our registered charity as a supporter through the website where all the funds go to expanding the free health program for Veterans and first responders around the country. \nIf you’ve even had a slight thought about trying BJJ and you are in the military or emergency services community reach out to these groups through their Instagram page and get involved 🥋🤙🏻 \nIf you’d like to find out more and sign up just follow the email below: \nhttps://reorgcharity.com \nhttps://www.wedefyfoundation.org/ \nVeterans Grappling ® \n \nPlease enable JavaScript in your browser to complete this form.Name *FirstLastPhone Number *Email *Thursday December 9th till Friday December 10th (QLD time) *1700-22592300- 04590500-10591100-1659Which 6 hour block would you like to attend. \n*You do not have to be able to attend the whole time. minimum of 30 mins on the matsWhere will you conduct your training ?At VGHQ Gold CoastOwn Gym/club venueat home*If you are training at home or at our local club please add the address in the comments box belowComments and place of conducting rollathonSubmit
URL:https://veteransgrappling.org.au/event/24-hour-rollathon/
LOCATION:Veterans Grappling\, Unit 3/19 Industrial Ave\, Molendinar\, QLD\, 4214\, Australia
ATTACH;FMTTYPE=image/jpeg:https://veteransgrappling.org.au/wp-content/uploads/2021/02/116359498_1176940002705389_7059349599660624683_o.jpg
END:VEVENT
BEGIN:VEVENT
DTSTART;TZID=UTC:20210910T160000
DTEND;TZID=UTC:20210912T210000
DTSTAMP:20260424T004901
CREATED:20210525T172641Z
LAST-MODIFIED:20210709T015153Z
UID:3884-1631289600-1631480400@veteransgrappling.org.au
SUMMARY:Central Coast NSW Veterans Grappling and Wellness Camp
DESCRIPTION:Central Coast Veterans Grappling and Wellness camp will be jointly hosted by Kaz and Matt Page who are the Authors of “My Broken Soldier” \nThe weekend of August 6-8th will consist of our unique Veteran Grappling Program (BJJ/JUDO/YOGA) education sessions by experts on healthy lifestyle\, meditation and recovery\, nonverbal communication and body language\, goal setting\, and combative behaviors. \nTo be eligible to attend you will need to be a DVA White or Gold Cardholder\, available for the whole weekend\, and able to find your own way to Wamberal if you live out of the central coast region. Apply by filling out the form below\, spots are limited. \n  \nVGF Summer Wellness Camp Application 2024Please enable JavaScript in your browser to complete this form.Name *FirstLastEmail *Phone Number *ADF Service type *ArmyNavyAir ForcePoliceFirefighterParamedicDVA CARD *WhiteGoldNo cardDVA card number *If you do not have a DVA file number just put 0Grappling Experience *Some (1-4years)Advanced: 4 plus yearslittle or None at allGrade or rank if you have experienceDo you own a BJJ/Judo Gi *YesNoI only do no GiSubmit Now!
URL:https://veteransgrappling.org.au/event/3884/
LOCATION:Central Coast NSW\, Wamberal\, NSW\, 2260\, Australia
ORGANIZER;CN="Scott":MAILTO:scott@veteransgrappling.org.au
END:VEVENT
BEGIN:VEVENT
DTSTART;TZID=Australia/Melbourne:20210530T080000
DTEND;TZID=Australia/Melbourne:20210530T170000
DTSTAMP:20260424T004901
CREATED:20210525T163246Z
LAST-MODIFIED:20210525T163246Z
UID:3879-1622361600-1622394000@veteransgrappling.org.au
SUMMARY:Moving to our new HQ
DESCRIPTION:Come along and help us pack up and move from our old venue (unit 4/33 Expansion Street\, Molendinar) to our new Head Quarters at 19 Industrial Ave Molendinar. \nBring your Ute\, Trailer\, Truck or strength and high work ethic to help us get it done as “MANY HANDS MAKE LIGHT WORK”
URL:https://veteransgrappling.org.au/event/moving-to-our-new-hq/
LOCATION:Veterans Grappling\, Unit 3/19 Industrial Ave\, Molendinar\, QLD\, 4214\, Australia
ORGANIZER;CN="Scott":MAILTO:scott@veteransgrappling.org.au
END:VEVENT
END:VCALENDAR